BEGIN:VCALENDAR
VERSION:2.0
PRODID:-//Bay of Quinte Region - ECPv6.15.20//NONSGML v1.0//EN
CALSCALE:GREGORIAN
METHOD:PUBLISH
X-WR-CALNAME:Bay of Quinte Region
X-ORIGINAL-URL:https://bayofquinte.ca
X-WR-CALDESC:Events for Bay of Quinte Region
REFRESH-INTERVAL;VALUE=DURATION:PT1H
X-Robots-Tag:noindex
X-PUBLISHED-TTL:PT1H
BEGIN:VTIMEZONE
TZID:America/Toronto
BEGIN:DAYLIGHT
TZOFFSETFROM:-0500
TZOFFSETTO:-0400
TZNAME:EDT
DTSTART:20250309T070000
END:DAYLIGHT
BEGIN:STANDARD
TZOFFSETFROM:-0400
TZOFFSETTO:-0500
TZNAME:EST
DTSTART:20251102T060000
END:STANDARD
BEGIN:DAYLIGHT
TZOFFSETFROM:-0500
TZOFFSETTO:-0400
TZNAME:EDT
DTSTART:20260308T070000
END:DAYLIGHT
BEGIN:STANDARD
TZOFFSETFROM:-0400
TZOFFSETTO:-0500
TZNAME:EST
DTSTART:20261101T060000
END:STANDARD
BEGIN:DAYLIGHT
TZOFFSETFROM:-0500
TZOFFSETTO:-0400
TZNAME:EDT
DTSTART:20270314T070000
END:DAYLIGHT
BEGIN:STANDARD
TZOFFSETFROM:-0400
TZOFFSETTO:-0500
TZNAME:EST
DTSTART:20271107T060000
END:STANDARD
END:VTIMEZONE
BEGIN:VEVENT
DTSTART;TZID=America/Toronto:20260424T080000
DTEND;TZID=America/Toronto:20260424T170000
DTSTAMP:20260424T015215
CREATED:20260407T172333Z
LAST-MODIFIED:20260407T193444Z
UID:10027891-1777017600-1777050000@bayofquinte.ca
SUMMARY:Quinte West Spring Scavenger hunt
DESCRIPTION:Discover Quinte West this spring! From April 2 to May 19\, gather your friends and family or head out on a solo adventure to the following five locations\, where you can scan the on-site signage to learn more about the history of: \n– Lock 1 – Munitions Plant Site (Trenton)\n– Old Bank Café (Frankford)\n– Wooler Schoolhouse (Wooler)\n– Old Sidney Town Hall Park (Sidney)\n– Trent Port Historical Society (Trenton) \nFind the large sign at each location and scan the QR code to learn a brief history about each spot in Quinte West.
URL:https://bayofquinte.ca/event/quinte-west-spring-scavenger-hunt/2026-04-24/
CATEGORIES:Quinte West Events
ATTACH;FMTTYPE=image/jpeg:https://bayofquinte.ca/wp-content/uploads/2026/04/EIB-Spring-Scavenger-Hunt-2026.jpg
ORGANIZER;CN="City of Quinte West":MAILTO:info@quintewest.ca
END:VEVENT
BEGIN:VEVENT
DTSTART;TZID=America/Toronto:20260424T100000
DTEND;TZID=America/Toronto:20260424T160000
DTSTAMP:20260424T015215
CREATED:20260331T175818Z
LAST-MODIFIED:20260402T214859Z
UID:10027763-1777024800-1777046400@bayofquinte.ca
SUMMARY:Carto/Topo/Geo/Graphic: Rediscovering Lost Maps by Carl Wiens
DESCRIPTION:Exhibition Dates: April 2 – April 30 \nThe Quinte Arts Council invites the public to experience Carto / Topo / Geo / Graphic: Rediscovering Lost Maps\, a captivating new exhibition by artist and illustrator Carl Wiens. \nThis body of work represents the culmination of a year of collecting\, clipping\, collaging\, and painting\, drawing inspiration from vintage maps and atlases. Through layered compositions and intricate details\, Wiens transforms historical cartographic materials into contemporary artworks\, revealing new narratives and visual landscapes. Maps become both medium and metaphor—charting journeys through imagination\, memory\, and discovery. \nCarl Wiens has enjoyed a successful career in the arts spanning more than 30 years. His work is deeply inspired by science and the natural world\, with a particular fascination for robots\, insects\, and the universe. In addition to his studio practice\, Carl teaches science and technology–based illustration at Sheridan College\, where he continues to be inspired by the creativity and dedication of emerging illustrators. \nHis work has received international recognition from organizations including the Society of Illustrators\, American Illustration\, 3×3 Magazine\, and the Applied Arts Awards. His illustrations have appeared in publications such as The New York Times\, The Wall Street Journal\, Time\, Forbes\, Barron’s\, and Esquire. His book projects include The Science of Song\, Wild Buildings and Bridges\, and FINNA. \nWhen he’s not creating illustrations\, Carl enjoys cycling\, kayaking\, stargazing\, chopping wood\, and playing hockey. Time spent outdoors and surrounded by nature continues to fuel his creativity. \nFeatured Artwork:\nNight Swimmer\n12 × 12″ collage on panel \nJoin us for the opening reception on April 2 from 4–6 PM and explore a unique artistic journey where geography\, memory\, and imagination intersect.
URL:https://bayofquinte.ca/event/carto-topo-geo-graphic-rediscovering-lost-maps-by-carl-wiens/2026-04-24/
LOCATION:Quinte Arts Council Cultural Hub\, 36 Bridge St E\, Belleville\, K8N 2Z5\, Canada
CATEGORIES:Belleville Events,Community,Downtown Belleville Events
ATTACH;FMTTYPE=image/jpeg:https://bayofquinte.ca/wp-content/uploads/2026/03/Carl-Wiens-ExplorersNightSwimmer2.jpg
ORGANIZER;CN="Quinte Arts Council":MAILTO:qac@quinteartscouncil.org
GEO:44.1639335;-77.3833879
X-APPLE-STRUCTURED-LOCATION;VALUE=URI;X-ADDRESS=Quinte Arts Council Cultural Hub 36 Bridge St E Belleville K8N 2Z5 Canada;X-APPLE-RADIUS=500;X-TITLE=36 Bridge St E:geo:-77.3833879,44.1639335
END:VEVENT
BEGIN:VEVENT
DTSTART;TZID=America/Toronto:20260424T100000
DTEND;TZID=America/Toronto:20260424T160000
DTSTAMP:20260424T015215
CREATED:20260408T194149Z
LAST-MODIFIED:20260408T194149Z
UID:10028039-1777024800-1777046400@bayofquinte.ca
SUMMARY:Spring has Sprung Gallery Show and Sale
DESCRIPTION:Join us for our beautiful April Show\nGallery Show and Sale\nRuns March 31 to May 2\nRegular Hours Tuesday to Saturday 10am to 4pm\nOpening Reception Saturday April 11 2pm fo 4pm
URL:https://bayofquinte.ca/event/spring-has-sprung-gallery-show-and-sale/2026-04-24/
LOCATION:208 Front St\, Belleville\, 208 Front St\, Belleville\, K8N 2Z8
CATEGORIES:Belleville Events,Community,Downtown Belleville Events
ATTACH;FMTTYPE=image/jpeg:https://bayofquinte.ca/wp-content/uploads/2026/04/657723202_1569122221645026_6231230563136915334_n.jpg
GEO:44.1638281;-77.3843427
X-APPLE-STRUCTURED-LOCATION;VALUE=URI;X-ADDRESS=208 Front St Belleville 208 Front St Belleville K8N 2Z8;X-APPLE-RADIUS=500;X-TITLE=208 Front St:geo:-77.3843427,44.1638281
END:VEVENT
BEGIN:VEVENT
DTSTART;TZID=America/Toronto:20260424T100000
DTEND;TZID=America/Toronto:20260424T170000
DTSTAMP:20260424T015215
CREATED:20260312T215522Z
LAST-MODIFIED:20260312T215522Z
UID:10027016-1777024800-1777050000@bayofquinte.ca
SUMMARY:Oeno Gallery Presents: Breathe
DESCRIPTION:Oeno Gallery welcomes you to ‘Breathe’ – a curated group show of fine artists whose work invites you to pause\, exhale\, and experience a moment of stillness. \nThe restrained brushwork\, the subdued palettes and the hand crafted nature of this collection of paintings\, sculptures\, ceramics and fibre art encourage reflection. Explore this perspective through the works of: Karen Bagayawa\, Susan Collett\, Dan Hughes\, Benny Katz\, Chung-Im Kim\, Claudia McCabe\, Paula Murray\, Milly Ristvedt\, Sasha Rogers\, Carol Sutton and Richard Tosczak.
URL:https://bayofquinte.ca/event/oeno-gallery-presents-breathe/2026-04-24/
LOCATION:Oeno Gallery\, 2274 Prince Edward County Road 1\, Bloomfield\, Ontario\, K0K 1G0\, Canada
CATEGORIES:Prince Edward County Wineries
ATTACH;FMTTYPE=image/jpeg:https://bayofquinte.ca/wp-content/uploads/2026/03/PS_StillLake-Novena_01.jpg
ORGANIZER;CN="Oeno Gallery":MAILTO:info@oenogallery.com
GEO:44.0151418;-77.2886424
X-APPLE-STRUCTURED-LOCATION;VALUE=URI;X-ADDRESS=Oeno Gallery 2274 Prince Edward County Road 1 Bloomfield Ontario K0K 1G0 Canada;X-APPLE-RADIUS=500;X-TITLE=2274 Prince Edward County Road 1:geo:-77.2886424,44.0151418
END:VEVENT
BEGIN:VEVENT
DTSTART;TZID=America/Toronto:20260424T140000
DTEND;TZID=America/Toronto:20260424T180000
DTSTAMP:20260424T015215
CREATED:20260309T210209Z
LAST-MODIFIED:20260309T210209Z
UID:10024914-1777039200-1777053600@bayofquinte.ca
SUMMARY:Happy House at The Local Social House
DESCRIPTION:We are putting the “Social” back in The Local Social House!  We are hosting the ultimate Local hanging every Friday starting at 2:00 pm. Whether you come for the “Social” or just the “House” specials\, we’ve got a drink with your name on it. Let’s make some pour decisions together. \nThe Deets:\n• When: Every Friday from 2:00 PM – 6:00 PM\n• Where: Right here at your favourite local spot\, The Local Social House\n• The Vibe: Great service\, low prices\, and the best company in town – YOU! \nDon’t be a stranger—be a Social butterfly! Come help us kick off the weekend the right way. After all\, it’s not just a house… it’s a Social home.
URL:https://bayofquinte.ca/event/happy-house-at-the-local-social-house/2026-04-24/
LOCATION:The Local Social House\, 211 Coleman St\, Belleville\, K8P3H8
CATEGORIES:Belleville Events,Community
ATTACH;FMTTYPE=image/jpeg:https://bayofquinte.ca/wp-content/uploads/2025/12/local-social-cocktail.jpg
ORGANIZER;CN="The Local Social House":MAILTO:info@thelocalsocialhouse.com
GEO:44.163848;-77.3860482
X-APPLE-STRUCTURED-LOCATION;VALUE=URI;X-ADDRESS=The Local Social House 211 Coleman St Belleville K8P3H8;X-APPLE-RADIUS=500;X-TITLE=211 Coleman St:geo:-77.3860482,44.163848
END:VEVENT
BEGIN:VEVENT
DTSTART;TZID=America/Toronto:20260424T170000
DTEND;TZID=America/Toronto:20260426T150000
DTSTAMP:20260424T015215
CREATED:20260316T173143Z
LAST-MODIFIED:20260316T173143Z
UID:10024683-1777050000-1777215600@bayofquinte.ca
SUMMARY:Bay of Quinte Home Show
DESCRIPTION:The Bay of Quinte Home Show is the region’s premier destination for homeowners\, renovators\, and design enthusiasts looking for inspiration and expert advice—all under one roof. This exciting multi-day event brings together trusted local and regional businesses showcasing the latest in home improvement\, renovation\, décor\, landscaping\, and lifestyle products. \nWhether you’re planning a major renovation\, building your dream home\, or simply looking for fresh ideas and practical solutions\, the Home Show offers direct access to knowledgeable professionals ready to help bring your vision to life. From innovative products and services to exclusive show specials\, there’s something for every home and budget. \nJoin us for a fun\, informative weekend filled with ideas\, connections\, and inspiration to help you love where you live. The Bay of Quinte Home Show is a must-attend event for anyone looking to improve\, update\, or reimagine their home.
URL:https://bayofquinte.ca/event/bay-of-quinte-home-show/
LOCATION:Duncan MacDonald Memorial Gardens\, 8 Couch Crescent\, Trenton
CATEGORIES:Quinte West Events
ATTACH;FMTTYPE=image/png:https://bayofquinte.ca/wp-content/uploads/2026/02/homeshow-new-logo-2.png
GEO:44.1026967;-77.5688752
X-APPLE-STRUCTURED-LOCATION;VALUE=URI;X-ADDRESS=Duncan MacDonald Memorial Gardens 8 Couch Crescent Trenton;X-APPLE-RADIUS=500;X-TITLE=8 Couch Crescent:geo:-77.5688752,44.1026967
END:VEVENT
BEGIN:VEVENT
DTSTART;TZID=America/Toronto:20260424T173000
DTEND;TZID=America/Toronto:20260424T193000
DTSTAMP:20260424T015215
CREATED:20260331T190612Z
LAST-MODIFIED:20260331T190612Z
UID:10027532-1777051800-1777059000@bayofquinte.ca
SUMMARY:Jazzlicious at The Bayleaf
DESCRIPTION:The Bayleaf presents live jazz from 5:30-7:30 as part of Jazzlicious 2026. Come on down for great Indian Cuisine and live jazz!\nArtists include Dan Douglas\, Spencer Evans\, Brian Coughlan\, Howward Lopez\, Lenni Stewart.
URL:https://bayofquinte.ca/event/jazzlicious-at-the-bayleaf/2026-04-24/
LOCATION:Bayleaf Resturant\, 182 Front Street\, Belleville\, K8N 2Y7
CATEGORIES:Belleville Events,Community,Downtown Belleville Events
ATTACH;FMTTYPE=image/jpeg:https://bayofquinte.ca/wp-content/uploads/2026/03/3.jpg
GEO:44.1630168;-77.3840861
X-APPLE-STRUCTURED-LOCATION;VALUE=URI;X-ADDRESS=Bayleaf Resturant 182 Front Street Belleville K8N 2Y7;X-APPLE-RADIUS=500;X-TITLE=182 Front Street:geo:-77.3840861,44.1630168
END:VEVENT
BEGIN:VEVENT
DTSTART;TZID=America/Toronto:20260424T180000
DTEND;TZID=America/Toronto:20260424T200000
DTSTAMP:20260424T015215
CREATED:20260413T171453Z
LAST-MODIFIED:20260413T171453Z
UID:10027640-1777053600-1777060800@bayofquinte.ca
SUMMARY:Jazzlicious at Paulos
DESCRIPTION:Jazzlicious continues with the dulcet sounds of Dan Bone and Duncan Cooper at Paulos.
URL:https://bayofquinte.ca/event/jazzlicious-at-paulos-5/
LOCATION:Paulo’s & Dinkel’s Restaurants\, 38/44 Bridge Street East\, Belleville\, Ontario\, K8N 1L6\, Canada
CATEGORIES:Belleville Events,Community,Downtown Belleville Events
ATTACH;FMTTYPE=image/jpeg:https://bayofquinte.ca/wp-content/uploads/2026/03/6-4.jpg
GEO:44.164135;-77.383071
X-APPLE-STRUCTURED-LOCATION;VALUE=URI;X-ADDRESS=Paulo’s & Dinkel’s Restaurants 38/44 Bridge Street East Belleville Ontario K8N 1L6 Canada;X-APPLE-RADIUS=500;X-TITLE=38/44 Bridge Street East:geo:-77.383071,44.164135
END:VEVENT
BEGIN:VEVENT
DTSTART;TZID=America/Toronto:20260424T193000
DTEND;TZID=America/Toronto:20260424T210000
DTSTAMP:20260424T015215
CREATED:20260316T165243Z
LAST-MODIFIED:20260316T165349Z
UID:10026237-1777059000-1777064400@bayofquinte.ca
SUMMARY:The Story of My Life: a one-woman play by Peter Paylor
DESCRIPTION:Come fall in love with Miriam in the world premiere production of a heartwarming new play by Peter Paylor. She’s a young librarian with eclectic reading habits. She likes Austen and Shakespeare and Dickens. She knows the Dewey Decimal System by heart. She plays pub trivia on Thursdays and flag football on Sundays. She’s bright\, she’s charming\, she’s lovable. She’s interested in just about everything. Except hope. She can’t seem to get her head around hope. Not until she meets Linda Louise Montgomery\, who’s twelve\, and Linda Louise’s father. He’s a seismologist. “The Story of My Life” will make your soul feel good. You’ll leave the theatre believing in hope. Starring Alexandra Bell as Miriam. Directed by Lisa Spence. Tickets are $25 each from Eventbrite or call (613) 403-7329 to reserve.
URL:https://bayofquinte.ca/event/the-story-of-my-life-a-one-woman-play-by-peter-paylor/2026-04-24/
LOCATION:Theatre in the Wings\, 30 Bridge Street East\, Belleville\, K8N 1L6
CATEGORIES:Belleville Events,Community,Downtown Belleville Events
ATTACH;FMTTYPE=image/jpeg:https://bayofquinte.ca/wp-content/uploads/2026/03/StoryOfMyLife2160.jpg
GEO:44.1638894;-77.3838058
X-APPLE-STRUCTURED-LOCATION;VALUE=URI;X-ADDRESS=Theatre in the Wings 30 Bridge Street East Belleville K8N 1L6;X-APPLE-RADIUS=500;X-TITLE=30 Bridge Street East:geo:-77.3838058,44.1638894
END:VEVENT
BEGIN:VEVENT
DTSTART;TZID=America/Toronto:20260424T193000
DTEND;TZID=America/Toronto:20260424T213000
DTSTAMP:20260424T015215
CREATED:20260408T192438Z
LAST-MODIFIED:20260408T192438Z
UID:10028021-1777059000-1777066200@bayofquinte.ca
SUMMARY:Sandy Toes and Salty Kisses at Brighton Barn Theatre
DESCRIPTION:Sandy Toes and Salty Kisses \nWritten by Michael Parker and Susan Parker\nDirected by Linda Sacchett\nProduced by Breigh Radford \nEvening Performances at 7:30 pm\nApril17\,23\,24\,25\,30 May1 \nMatinee Performances at 2:00 pm\nApril18\,19\,26 May2\,3 \n\nAudriana Brown inherits a bustling wedding destination hotel\, brimming with promise and excitement.  However\, her enthusiasm is quickly dampened when she discovers that her Uncle Bubba\, who serves as the hotel caretaker\, has been engaging in questionable\, and possibly illegal activities on the premises. \nThe plot thickens with the arrival of the Rutherford-Smythes – a high society mother and daughter duo – alongside the daughter’s fiancé\, a mysterious stranger\, a quirky receptionist and a wedding planner who is not the woman she appears to be!
URL:https://bayofquinte.ca/event/sandy-toes-and-salty-kisses-at-brighton-barn-theatre/2026-04-24/
LOCATION:Brighton Barn Theatre\, 96 Young St\, Brighton\, ON\, Canada
CATEGORIES:Brighton Events
ATTACH;FMTTYPE=image/jpeg:https://bayofquinte.ca/wp-content/uploads/2026/04/Sandy-Toes-Poster-Final.jpg
ORGANIZER;CN="Brighton Barn Theatre":MAILTO:info@brightonbarntheatre.ca
GEO:44.0477972;-77.7402577
X-APPLE-STRUCTURED-LOCATION;VALUE=URI;X-ADDRESS=Brighton Barn Theatre 96 Young St Brighton ON Canada;X-APPLE-RADIUS=500;X-TITLE=96 Young St:geo:-77.7402577,44.0477972
END:VEVENT
BEGIN:VEVENT
DTSTART;TZID=America/Toronto:20260424T193000
DTEND;TZID=America/Toronto:20260424T213000
DTSTAMP:20260424T015215
CREATED:20260413T171540Z
LAST-MODIFIED:20260413T171540Z
UID:10027724-1777059000-1777066200@bayofquinte.ca
SUMMARY:Dave Shewchuk Goes All Jimmy
DESCRIPTION:Violin virtuoso\, Dave Shewchuk\, will interpret the work of Jimi Hendrix\, the third in a trilogy of his takes on world-renowned musicians: The Beatles\, The Rolling Stones and now Hendrix. \nDave incorporates a cello\, a guitar and a saxophone to lay down a track\, then picks up his Antonio Stradivarius Faciebat 1710 replica\, by Vittorio Formaggia Fece\, and brings a gasp from his audiences when he masterfully complements his recorded track. Dave has performed as a soloist from Ontario to Vancouver and everywhere in between\, winning the hearts of audiences with stunning creativity and originality. \nDave is also the current concertmaster of The Quinte Symphony. He will bring his incredible musical talent to the UpFront Cafe\, 313 Front Street\, Belleville\, April 24\, 2026. Tickets are $20 and available through www.universe.com/Shewchuk0426.
URL:https://bayofquinte.ca/event/dave-shewchuk-goes-all-jimmy/
LOCATION:UpFront Cafe – 313 Front Street\, Belleville
CATEGORIES:Belleville Events,Community,Downtown Belleville Events
ATTACH;FMTTYPE=image/jpeg:https://bayofquinte.ca/wp-content/uploads/2026/03/Shewchuk-april-2026.jpg
ORGANIZER;CN="Gary's Gig":MAILTO:lattalad@gmail.com
END:VEVENT
BEGIN:VEVENT
DTSTART;TZID=America/Toronto:20260424T200000
DTEND;TZID=America/Toronto:20260424T220000
DTSTAMP:20260424T015215
CREATED:20260413T171600Z
LAST-MODIFIED:20260413T171600Z
UID:10028053-1777060800-1777068000@bayofquinte.ca
SUMMARY:LIVE MUSIC: Paul O'Brien @ Meyers Creek Brewing
DESCRIPTION:Live acoustic performer Paul O’Brien brings over two decades of experience to the stage\, delivering a dynamic blend of alternative rock\, classic rock\, pop\, grunge\, Celtic\, and country favourites—reimagined with energy\, authenticity\, and a stripped-down acoustic edge perfect for a memorable night out.
URL:https://bayofquinte.ca/event/live-music-paul-obrien-meyers-creek-brewing/
LOCATION:Meyers Creek Brewing\, 60 Dundas St E\, Belleville\, K8N 1B8
CATEGORIES:Belleville Events,Community
ATTACH;FMTTYPE=image/jpeg:https://bayofquinte.ca/wp-content/uploads/2026/04/PaulOBrien_crop.jpeg
GEO:44.1616525;-77.3799711
X-APPLE-STRUCTURED-LOCATION;VALUE=URI;X-ADDRESS=Meyers Creek Brewing 60 Dundas St E Belleville K8N 1B8;X-APPLE-RADIUS=500;X-TITLE=60 Dundas St E:geo:-77.3799711,44.1616525
END:VEVENT
BEGIN:VEVENT
DTSTART;TZID=America/Toronto:20260424T210000
DTEND;TZID=America/Toronto:20260424T235900
DTSTAMP:20260424T015215
CREATED:20260312T214958Z
LAST-MODIFIED:20260407T171929Z
UID:10026253-1777064400-1777075140@bayofquinte.ca
SUMMARY:Girl's Night Out at Little Texas
DESCRIPTION:Join Us for GIRLS NIGHT OUT Hosted by the Hottest DJs in Quinte!\nLadies Pay NO COVER Before 10pm!\nShots\, Rail Drinks and Draft Beer are ONLY $5 Before 10pm!\nParty gets underway at 9pm\, and keeps going until 2am.
URL:https://bayofquinte.ca/event/girls-night-out-at-little-texas/2026-04-24/
LOCATION:Little Texas Bar & Grill\, 327 North Front Street\, Belleville\, K8P3C6\, Canada
CATEGORIES:Belleville Events,Community
ATTACH;FMTTYPE=image/jpeg:https://bayofquinte.ca/wp-content/uploads/2026/03/girls4.jpg
GEO:44.1864458;-77.3946346
X-APPLE-STRUCTURED-LOCATION;VALUE=URI;X-ADDRESS=Little Texas Bar & Grill 327 North Front Street Belleville K8P3C6 Canada;X-APPLE-RADIUS=500;X-TITLE=327 North Front Street:geo:-77.3946346,44.1864458
END:VEVENT
END:VCALENDAR