BEGIN:VCALENDAR
VERSION:2.0
PRODID:-//Bay of Quinte Region - ECPv6.15.20//NONSGML v1.0//EN
CALSCALE:GREGORIAN
METHOD:PUBLISH
X-WR-CALNAME:Bay of Quinte Region
X-ORIGINAL-URL:https://bayofquinte.ca
X-WR-CALDESC:Events for Bay of Quinte Region
REFRESH-INTERVAL;VALUE=DURATION:PT1H
X-Robots-Tag:noindex
X-PUBLISHED-TTL:PT1H
BEGIN:VTIMEZONE
TZID:America/Toronto
BEGIN:DAYLIGHT
TZOFFSETFROM:-0500
TZOFFSETTO:-0400
TZNAME:EDT
DTSTART:20250309T070000
END:DAYLIGHT
BEGIN:STANDARD
TZOFFSETFROM:-0400
TZOFFSETTO:-0500
TZNAME:EST
DTSTART:20251102T060000
END:STANDARD
BEGIN:DAYLIGHT
TZOFFSETFROM:-0500
TZOFFSETTO:-0400
TZNAME:EDT
DTSTART:20260308T070000
END:DAYLIGHT
BEGIN:STANDARD
TZOFFSETFROM:-0400
TZOFFSETTO:-0500
TZNAME:EST
DTSTART:20261101T060000
END:STANDARD
BEGIN:DAYLIGHT
TZOFFSETFROM:-0500
TZOFFSETTO:-0400
TZNAME:EDT
DTSTART:20270314T070000
END:DAYLIGHT
BEGIN:STANDARD
TZOFFSETFROM:-0400
TZOFFSETTO:-0500
TZNAME:EST
DTSTART:20271107T060000
END:STANDARD
END:VTIMEZONE
BEGIN:VEVENT
DTSTART;TZID=America/Toronto:20260523T100000
DTEND;TZID=America/Toronto:20260523T140000
DTSTAMP:20260423T144501
CREATED:20260420T190255Z
LAST-MODIFIED:20260420T190255Z
UID:118748-1779530400-1779544800@bayofquinte.ca
SUMMARY:Trenton Lawn Bowling Club Open House
DESCRIPTION:Come out and enjoy lawn bowling\, meet our members and enjoy some light refreshments. No experience or equipment is required and everyone is welcome.
URL:https://bayofquinte.ca/event/trenton-lawn-bowling-club-open-house/
LOCATION:Trenton Lawn Bowling Club\, 61B Bay Street\, Trenton\, Ont\, K8V 1H6
CATEGORIES:Quinte West Events
ATTACH;FMTTYPE=image/jpeg:https://bayofquinte.ca/wp-content/uploads/2026/04/IMG_7149.jpeg
ORGANIZER;CN="Trentons Lawn Bowling Club":MAILTO:janebermingham668@gmail.com
GEO:44.1031607;-77.566375
X-APPLE-STRUCTURED-LOCATION;VALUE=URI;X-ADDRESS=Trenton Lawn Bowling Club 61B Bay Street Trenton Ont K8V 1H6;X-APPLE-RADIUS=500;X-TITLE=61B Bay Street:geo:-77.566375,44.1031607
END:VEVENT
END:VCALENDAR