BEGIN:VCALENDAR
VERSION:2.0
PRODID:-//Bay of Quinte Region - ECPv6.15.20//NONSGML v1.0//EN
CALSCALE:GREGORIAN
METHOD:PUBLISH
X-WR-CALNAME:Bay of Quinte Region
X-ORIGINAL-URL:https://bayofquinte.ca
X-WR-CALDESC:Events for Bay of Quinte Region
REFRESH-INTERVAL;VALUE=DURATION:PT1H
X-Robots-Tag:noindex
X-PUBLISHED-TTL:PT1H
BEGIN:VTIMEZONE
TZID:America/Toronto
BEGIN:DAYLIGHT
TZOFFSETFROM:-0500
TZOFFSETTO:-0400
TZNAME:EDT
DTSTART:20250309T070000
END:DAYLIGHT
BEGIN:STANDARD
TZOFFSETFROM:-0400
TZOFFSETTO:-0500
TZNAME:EST
DTSTART:20251102T060000
END:STANDARD
BEGIN:DAYLIGHT
TZOFFSETFROM:-0500
TZOFFSETTO:-0400
TZNAME:EDT
DTSTART:20260308T070000
END:DAYLIGHT
BEGIN:STANDARD
TZOFFSETFROM:-0400
TZOFFSETTO:-0500
TZNAME:EST
DTSTART:20261101T060000
END:STANDARD
BEGIN:DAYLIGHT
TZOFFSETFROM:-0500
TZOFFSETTO:-0400
TZNAME:EDT
DTSTART:20270314T070000
END:DAYLIGHT
BEGIN:STANDARD
TZOFFSETFROM:-0400
TZOFFSETTO:-0500
TZNAME:EST
DTSTART:20271107T060000
END:STANDARD
END:VTIMEZONE
BEGIN:VEVENT
DTSTART;TZID=America/Toronto:20260502T100000
DTEND;TZID=America/Toronto:20260502T110000
DTSTAMP:20260423T020507
CREATED:20260423T014110Z
LAST-MODIFIED:20260423T014110Z
UID:118991-1777716000-1777719600@bayofquinte.ca
SUMMARY:Sound Bath Experience at The Landmark
DESCRIPTION:Join us for a one-night immersive sound bath experience inside The Landmark\, a beautifully restored historic church in downtown Trenton. \nThis guided wellness session uses sound and vibration to promote deep relaxation\, mental clarity\, and stress relief in a unique and atmospheric setting. \nOpen to the public. This is a ticketed event and advance registration is required. Limited spots available.
URL:https://bayofquinte.ca/event/sound-bath-experience-at-the-landmark/
LOCATION:The Landmark Venue\, 16 Marmora st.\,\, Trenton
CATEGORIES:Quinte West Events,Downtown Trenton
ATTACH;FMTTYPE=image/jpeg:https://bayofquinte.ca/wp-content/uploads/2026/04/SoundBath.jpg
ORGANIZER;CN="The Landmark Venue":MAILTO:booking@thelandmarkvenue.ca
GEO:44.1052891;-77.5717481
X-APPLE-STRUCTURED-LOCATION;VALUE=URI;X-ADDRESS=The Landmark Venue 16 Marmora st. Trenton;X-APPLE-RADIUS=500;X-TITLE=16 Marmora st.\,:geo:-77.5717481,44.1052891
END:VEVENT
END:VCALENDAR