BEGIN:VCALENDAR
VERSION:2.0
PRODID:-//Bay of Quinte Region - ECPv6.15.20//NONSGML v1.0//EN
CALSCALE:GREGORIAN
METHOD:PUBLISH
X-WR-CALNAME:Bay of Quinte Region
X-ORIGINAL-URL:https://bayofquinte.ca
X-WR-CALDESC:Events for Bay of Quinte Region
REFRESH-INTERVAL;VALUE=DURATION:PT1H
X-Robots-Tag:noindex
X-PUBLISHED-TTL:PT1H
BEGIN:VTIMEZONE
TZID:America/Toronto
BEGIN:DAYLIGHT
TZOFFSETFROM:-0500
TZOFFSETTO:-0400
TZNAME:EDT
DTSTART:20240310T070000
END:DAYLIGHT
BEGIN:STANDARD
TZOFFSETFROM:-0400
TZOFFSETTO:-0500
TZNAME:EST
DTSTART:20241103T060000
END:STANDARD
BEGIN:DAYLIGHT
TZOFFSETFROM:-0500
TZOFFSETTO:-0400
TZNAME:EDT
DTSTART:20250309T070000
END:DAYLIGHT
BEGIN:STANDARD
TZOFFSETFROM:-0400
TZOFFSETTO:-0500
TZNAME:EST
DTSTART:20251102T060000
END:STANDARD
BEGIN:DAYLIGHT
TZOFFSETFROM:-0500
TZOFFSETTO:-0400
TZNAME:EDT
DTSTART:20260308T070000
END:DAYLIGHT
BEGIN:STANDARD
TZOFFSETFROM:-0400
TZOFFSETTO:-0500
TZNAME:EST
DTSTART:20261101T060000
END:STANDARD
END:VTIMEZONE
BEGIN:VEVENT
DTSTART;TZID=America/Toronto:20251228T130000
DTEND;TZID=America/Toronto:20251228T160000
DTSTAMP:20260423T144919
CREATED:20251217T215023Z
LAST-MODIFIED:20251217T215023Z
UID:10023894-1766926800-1766937600@bayofquinte.ca
SUMMARY:Open Mic at UpFront Cafe
DESCRIPTION:Bring your talent and take the stage or just come and enjoy some talented local musicians and chill. Comedians welcome as well!\nHope to see y’all there! \nHosted by Jasmin Karen Sweet \nLicensed venue
URL:https://bayofquinte.ca/event/open-mic-at-upfront-cafe/2025-12-28/
LOCATION:UpFront Cafe – 313 Front Street\, Belleville
CATEGORIES:Belleville Events,Community,Downtown Belleville Events
ATTACH;FMTTYPE=image/jpeg:https://bayofquinte.ca/wp-content/uploads/2025/12/IMG_3068.jpeg
ORGANIZER;CN="Dianne Bartlett":MAILTO:Dianne@upfrontgalleryhome.com
END:VEVENT
END:VCALENDAR