BEGIN:VCALENDAR
VERSION:2.0
PRODID:-//Bay of Quinte Region - ECPv6.15.20//NONSGML v1.0//EN
CALSCALE:GREGORIAN
METHOD:PUBLISH
X-WR-CALNAME:Bay of Quinte Region
X-ORIGINAL-URL:https://bayofquinte.ca
X-WR-CALDESC:Events for Bay of Quinte Region
REFRESH-INTERVAL;VALUE=DURATION:PT1H
X-Robots-Tag:noindex
X-PUBLISHED-TTL:PT1H
BEGIN:VTIMEZONE
TZID:America/Toronto
BEGIN:DAYLIGHT
TZOFFSETFROM:-0500
TZOFFSETTO:-0400
TZNAME:EDT
DTSTART:20250309T070000
END:DAYLIGHT
BEGIN:STANDARD
TZOFFSETFROM:-0400
TZOFFSETTO:-0500
TZNAME:EST
DTSTART:20251102T060000
END:STANDARD
BEGIN:DAYLIGHT
TZOFFSETFROM:-0500
TZOFFSETTO:-0400
TZNAME:EDT
DTSTART:20260308T070000
END:DAYLIGHT
BEGIN:STANDARD
TZOFFSETFROM:-0400
TZOFFSETTO:-0500
TZNAME:EST
DTSTART:20261101T060000
END:STANDARD
BEGIN:DAYLIGHT
TZOFFSETFROM:-0500
TZOFFSETTO:-0400
TZNAME:EDT
DTSTART:20270314T070000
END:DAYLIGHT
BEGIN:STANDARD
TZOFFSETFROM:-0400
TZOFFSETTO:-0500
TZNAME:EST
DTSTART:20271107T060000
END:STANDARD
END:VTIMEZONE
BEGIN:VEVENT
DTSTART;TZID=America/Toronto:20260110T140000
DTEND;TZID=America/Toronto:20260110T160000
DTSTAMP:20260424T123534
CREATED:20251231T015146Z
LAST-MODIFIED:20251231T015146Z
UID:105901-1768053600-1768060800@bayofquinte.ca
SUMMARY:New Beginnings January Show and Sale at Belleville Art Association
DESCRIPTION:New Beginnings Opening Reception at the Belleville Art Association\nSaturday January 10th\n2 pm to 4 pm \nShow runs from Jan 6th to Jan 31st\nThe gallery is open Tuesday to Saturday\, 10 am to 4 pm
URL:https://bayofquinte.ca/event/new-beginnings-january-show-and-sale-at-belleville-art-association/
LOCATION:208 Front St\, Belleville\, 208 Front St\, Belleville\, K8N 2Z8
CATEGORIES:Belleville Events,Community,Downtown Belleville Events
ATTACH;FMTTYPE=image/jpeg:https://bayofquinte.ca/wp-content/uploads/2025/12/Screenshot_20251230_111136_Instagram.jpg
GEO:44.1638281;-77.3843427
X-APPLE-STRUCTURED-LOCATION;VALUE=URI;X-ADDRESS=208 Front St Belleville 208 Front St Belleville K8N 2Z8;X-APPLE-RADIUS=500;X-TITLE=208 Front St:geo:-77.3843427,44.1638281
END:VEVENT
END:VCALENDAR