BEGIN:VCALENDAR
VERSION:2.0
PRODID:-//Bay of Quinte Region - ECPv6.15.20//NONSGML v1.0//EN
CALSCALE:GREGORIAN
METHOD:PUBLISH
X-WR-CALNAME:Bay of Quinte Region
X-ORIGINAL-URL:https://bayofquinte.ca
X-WR-CALDESC:Events for Bay of Quinte Region
REFRESH-INTERVAL;VALUE=DURATION:PT1H
X-Robots-Tag:noindex
X-PUBLISHED-TTL:PT1H
BEGIN:VTIMEZONE
TZID:America/Toronto
BEGIN:DAYLIGHT
TZOFFSETFROM:-0500
TZOFFSETTO:-0400
TZNAME:EDT
DTSTART:20240310T070000
END:DAYLIGHT
BEGIN:STANDARD
TZOFFSETFROM:-0400
TZOFFSETTO:-0500
TZNAME:EST
DTSTART:20241103T060000
END:STANDARD
BEGIN:DAYLIGHT
TZOFFSETFROM:-0500
TZOFFSETTO:-0400
TZNAME:EDT
DTSTART:20250309T070000
END:DAYLIGHT
BEGIN:STANDARD
TZOFFSETFROM:-0400
TZOFFSETTO:-0500
TZNAME:EST
DTSTART:20251102T060000
END:STANDARD
BEGIN:DAYLIGHT
TZOFFSETFROM:-0500
TZOFFSETTO:-0400
TZNAME:EDT
DTSTART:20260308T070000
END:DAYLIGHT
BEGIN:STANDARD
TZOFFSETFROM:-0400
TZOFFSETTO:-0500
TZNAME:EST
DTSTART:20261101T060000
END:STANDARD
END:VTIMEZONE
BEGIN:VEVENT
DTSTART;TZID=America/Toronto:20251213T190000
DTEND;TZID=America/Toronto:20251213T210000
DTSTAMP:20260423T203329
CREATED:20251212T214137Z
LAST-MODIFIED:20251212T214137Z
UID:103238-1765652400-1765659600@bayofquinte.ca
SUMMARY:LIVE MUSIC @ Meyers Creek Brewing - Chris Morris
DESCRIPTION:Chris Morris is a folk singer based in Prince Edward County. \nA casually charismatic performer with a penchant for tall tales and a near exhaustive repertoire of songs to charm audiences of all temperaments\, musical stalwart Chris Morris has carved out a reputation as a popular\, in-demand singer/songwriter/musician on festival stages\, pubs and clubs throughout Eastern Ontario. \nKnown for invoking an atmosphere of unbridled fun\, storytelling moxy and musical dexterity to any stage\, he identifies his delivery and style under the broadly inclusive Folk umbrella. Morris brings the same level of commitment to his sometimes wildly varied set list of classic covers as he does to his bitingly clever and unabashedly authentic original material.
URL:https://bayofquinte.ca/event/live-music-meyers-creek-brewing-chris-morris/
LOCATION:Meyers Creek Brewing\, 60 Dundas St E\, Belleville\, K8N 1B8
CATEGORIES:Belleville Events,Community
ATTACH;FMTTYPE=image/jpeg:https://bayofquinte.ca/wp-content/uploads/2025/12/Chris-Morris-All-By-Myself-album-cover.jpg
GEO:44.1616525;-77.3799711
X-APPLE-STRUCTURED-LOCATION;VALUE=URI;X-ADDRESS=Meyers Creek Brewing 60 Dundas St E Belleville K8N 1B8;X-APPLE-RADIUS=500;X-TITLE=60 Dundas St E:geo:-77.3799711,44.1616525
END:VEVENT
END:VCALENDAR