BEGIN:VCALENDAR
VERSION:2.0
PRODID:-//Bay of Quinte Region - ECPv6.15.20//NONSGML v1.0//EN
CALSCALE:GREGORIAN
METHOD:PUBLISH
X-WR-CALNAME:Bay of Quinte Region
X-ORIGINAL-URL:https://bayofquinte.ca
X-WR-CALDESC:Events for Bay of Quinte Region
REFRESH-INTERVAL;VALUE=DURATION:PT1H
X-Robots-Tag:noindex
X-PUBLISHED-TTL:PT1H
BEGIN:VTIMEZONE
TZID:America/Toronto
BEGIN:DAYLIGHT
TZOFFSETFROM:-0500
TZOFFSETTO:-0400
TZNAME:EDT
DTSTART:20250309T070000
END:DAYLIGHT
BEGIN:STANDARD
TZOFFSETFROM:-0400
TZOFFSETTO:-0500
TZNAME:EST
DTSTART:20251102T060000
END:STANDARD
BEGIN:DAYLIGHT
TZOFFSETFROM:-0500
TZOFFSETTO:-0400
TZNAME:EDT
DTSTART:20260308T070000
END:DAYLIGHT
BEGIN:STANDARD
TZOFFSETFROM:-0400
TZOFFSETTO:-0500
TZNAME:EST
DTSTART:20261101T060000
END:STANDARD
BEGIN:DAYLIGHT
TZOFFSETFROM:-0500
TZOFFSETTO:-0400
TZNAME:EDT
DTSTART:20270314T070000
END:DAYLIGHT
BEGIN:STANDARD
TZOFFSETFROM:-0400
TZOFFSETTO:-0500
TZNAME:EST
DTSTART:20271107T060000
END:STANDARD
END:VTIMEZONE
BEGIN:VEVENT
DTSTART;TZID=America/Toronto:20260425T140000
DTEND;TZID=America/Toronto:20260425T160000
DTSTAMP:20260423T020344
CREATED:20260423T013642Z
LAST-MODIFIED:20260423T013642Z
UID:119071-1777125600-1777132800@bayofquinte.ca
SUMMARY:Late Spring Show Reception
DESCRIPTION:Join us for our Late Spring Show featuring: Guest Artist Mark Algar and Featured Member Artist Marta Mouka & G 121 Member Artists \nRunning April 22 to May 30 during gallery hours. \nA visually delightful show. Looking forward to seeing you there.
URL:https://bayofquinte.ca/event/late-spring-show/
LOCATION:48 Bridge Street East\, 48 Bridge Street East\, Belleville\, Ontario\, K8N1L6
CATEGORIES:Belleville Events,Downtown Belleville Events
ATTACH;FMTTYPE=image/jpeg:https://bayofquinte.ca/wp-content/uploads/2026/04/G121-2026-Late-Spring-Invitation-proof-1.jpg
ORGANIZER;CN="Gallery 121":MAILTO:gallery121belleville@gmail.com
GEO:44.1640034;-77.3830269
X-APPLE-STRUCTURED-LOCATION;VALUE=URI;X-ADDRESS=48 Bridge Street East 48 Bridge Street East Belleville Ontario K8N1L6;X-APPLE-RADIUS=500;X-TITLE=48 Bridge Street East:geo:-77.3830269,44.1640034
END:VEVENT
END:VCALENDAR