BEGIN:VCALENDAR
VERSION:2.0
PRODID:-//Bay of Quinte Region - ECPv6.15.20//NONSGML v1.0//EN
CALSCALE:GREGORIAN
METHOD:PUBLISH
X-WR-CALNAME:Bay of Quinte Region
X-ORIGINAL-URL:https://bayofquinte.ca
X-WR-CALDESC:Events for Bay of Quinte Region
REFRESH-INTERVAL;VALUE=DURATION:PT1H
X-Robots-Tag:noindex
X-PUBLISHED-TTL:PT1H
BEGIN:VTIMEZONE
TZID:America/Toronto
BEGIN:DAYLIGHT
TZOFFSETFROM:-0500
TZOFFSETTO:-0400
TZNAME:EDT
DTSTART:20240310T070000
END:DAYLIGHT
BEGIN:STANDARD
TZOFFSETFROM:-0400
TZOFFSETTO:-0500
TZNAME:EST
DTSTART:20241103T060000
END:STANDARD
BEGIN:DAYLIGHT
TZOFFSETFROM:-0500
TZOFFSETTO:-0400
TZNAME:EDT
DTSTART:20250309T070000
END:DAYLIGHT
BEGIN:STANDARD
TZOFFSETFROM:-0400
TZOFFSETTO:-0500
TZNAME:EST
DTSTART:20251102T060000
END:STANDARD
BEGIN:DAYLIGHT
TZOFFSETFROM:-0500
TZOFFSETTO:-0400
TZNAME:EDT
DTSTART:20260308T070000
END:DAYLIGHT
BEGIN:STANDARD
TZOFFSETFROM:-0400
TZOFFSETTO:-0500
TZNAME:EST
DTSTART:20261101T060000
END:STANDARD
END:VTIMEZONE
BEGIN:VEVENT
DTSTART;TZID=America/Toronto:20251207T090000
DTEND;TZID=America/Toronto:20251207T160000
DTSTAMP:20260424T082200
CREATED:20250820T160843Z
LAST-MODIFIED:20251010T192759Z
UID:10022589-1765098000-1765123200@bayofquinte.ca
SUMMARY:Holly Jolly Holiday Market 2025
DESCRIPTION:We’re excited to announce the return of the Holly Jolly Holiday Market in 2025! Join us as we once again transform the Belleville Armoury into a festive\, community-centered holiday market. \nPresented by PEC Markets\, this beloved event brings together the very best of Prince Edward County and the Bay of Quinte region’s vibrant maker communities. From handcrafted gifts and gourmet goodies to locally made art\, jewelry\, home décor\, and more\, the Holly Jolly Holiday Market is a true celebration of small business and seasonal spirit. \nWe proudly support and collaborate with local producers\, artists\, and entrepreneurs\, and we welcome applications from makers\, creators\, and small businesses ready to bring their holiday best.
URL:https://bayofquinte.ca/event/holly-jolly-holiday-market-2025/2025-12-07/
LOCATION:Belleville Armouries\, 187 Pinnacle St.
CATEGORIES:Belleville Events,Community,Downtown Belleville Events
ATTACH;FMTTYPE=image/jpeg:https://bayofquinte.ca/wp-content/uploads/2025/08/collection-of-christmas-present-boxes-royalty-free-image-875268918-1541432342-scaled.jpg
ORGANIZER;CN="PEC Markets%2C Inc.":MAILTO:info@countymarkets.ca
GEO:42.6206636;-71.2104594
X-APPLE-STRUCTURED-LOCATION;VALUE=URI;X-ADDRESS=Belleville Armouries 187 Pinnacle St.;X-APPLE-RADIUS=500;X-TITLE=187 Pinnacle St.:geo:-71.2104594,42.6206636
END:VEVENT
END:VCALENDAR