BEGIN:VCALENDAR
VERSION:2.0
PRODID:-//Bay of Quinte Region - ECPv6.15.20//NONSGML v1.0//EN
CALSCALE:GREGORIAN
METHOD:PUBLISH
X-WR-CALNAME:Bay of Quinte Region
X-ORIGINAL-URL:https://bayofquinte.ca
X-WR-CALDESC:Events for Bay of Quinte Region
REFRESH-INTERVAL;VALUE=DURATION:PT1H
X-Robots-Tag:noindex
X-PUBLISHED-TTL:PT1H
BEGIN:VTIMEZONE
TZID:America/Toronto
BEGIN:DAYLIGHT
TZOFFSETFROM:-0500
TZOFFSETTO:-0400
TZNAME:EDT
DTSTART:20250309T070000
END:DAYLIGHT
BEGIN:STANDARD
TZOFFSETFROM:-0400
TZOFFSETTO:-0500
TZNAME:EST
DTSTART:20251102T060000
END:STANDARD
BEGIN:DAYLIGHT
TZOFFSETFROM:-0500
TZOFFSETTO:-0400
TZNAME:EDT
DTSTART:20260308T070000
END:DAYLIGHT
BEGIN:STANDARD
TZOFFSETFROM:-0400
TZOFFSETTO:-0500
TZNAME:EST
DTSTART:20261101T060000
END:STANDARD
BEGIN:DAYLIGHT
TZOFFSETFROM:-0500
TZOFFSETTO:-0400
TZNAME:EDT
DTSTART:20270314T070000
END:DAYLIGHT
BEGIN:STANDARD
TZOFFSETFROM:-0400
TZOFFSETTO:-0500
TZNAME:EST
DTSTART:20271107T060000
END:STANDARD
END:VTIMEZONE
BEGIN:VEVENT
DTSTART;TZID=America/Toronto:20260620T130000
DTEND;TZID=America/Toronto:20260620T170000
DTSTAMP:20260423T172112
CREATED:20260416T145234Z
LAST-MODIFIED:20260416T145234Z
UID:115645-1781960400-1781974800@bayofquinte.ca
SUMMARY:Gathering of Drums
DESCRIPTION:DRUMSU is a gathering of drums from all traditions the world over. It brings together many cultures to share the rhythm of the drum from many positive perspectives. This is an initiative of the African Arts Institute\, a non-profit charitable organization based in Belleville. Free
URL:https://bayofquinte.ca/event/gathering-of-drums/
LOCATION:West Zwicks Park\, 11 Bay Bridge Road\, Belleville\, K8P 3P6
CATEGORIES:Belleville Events
ATTACH;FMTTYPE=image/jpeg:https://bayofquinte.ca/wp-content/uploads/2026/03/CALL.-DRUMSU.jpg
ORGANIZER;CN="African Arts Institute":MAILTO:africanartsinstitutecanada@gmail.com
GEO:44.1538838;-77.3886755
X-APPLE-STRUCTURED-LOCATION;VALUE=URI;X-ADDRESS=West Zwicks Park 11 Bay Bridge Road Belleville K8P 3P6;X-APPLE-RADIUS=500;X-TITLE=11 Bay Bridge Road:geo:-77.3886755,44.1538838
END:VEVENT
END:VCALENDAR