BEGIN:VCALENDAR
VERSION:2.0
PRODID:-//Bay of Quinte Region - ECPv6.15.20//NONSGML v1.0//EN
CALSCALE:GREGORIAN
METHOD:PUBLISH
X-WR-CALNAME:Bay of Quinte Region
X-ORIGINAL-URL:https://bayofquinte.ca
X-WR-CALDESC:Events for Bay of Quinte Region
REFRESH-INTERVAL;VALUE=DURATION:PT1H
X-Robots-Tag:noindex
X-PUBLISHED-TTL:PT1H
BEGIN:VTIMEZONE
TZID:America/Toronto
BEGIN:DAYLIGHT
TZOFFSETFROM:-0500
TZOFFSETTO:-0400
TZNAME:EDT
DTSTART:20250309T070000
END:DAYLIGHT
BEGIN:STANDARD
TZOFFSETFROM:-0400
TZOFFSETTO:-0500
TZNAME:EST
DTSTART:20251102T060000
END:STANDARD
BEGIN:DAYLIGHT
TZOFFSETFROM:-0500
TZOFFSETTO:-0400
TZNAME:EDT
DTSTART:20260308T070000
END:DAYLIGHT
BEGIN:STANDARD
TZOFFSETFROM:-0400
TZOFFSETTO:-0500
TZNAME:EST
DTSTART:20261101T060000
END:STANDARD
BEGIN:DAYLIGHT
TZOFFSETFROM:-0500
TZOFFSETTO:-0400
TZNAME:EDT
DTSTART:20270314T070000
END:DAYLIGHT
BEGIN:STANDARD
TZOFFSETFROM:-0400
TZOFFSETTO:-0500
TZNAME:EST
DTSTART:20271107T060000
END:STANDARD
END:VTIMEZONE
BEGIN:VEVENT
DTSTART;TZID=America/Toronto:20260516T150000
DTEND;TZID=America/Toronto:20260516T210000
DTSTAMP:20260423T143529
CREATED:20260423T142839Z
LAST-MODIFIED:20260423T142839Z
UID:118944-1778943600-1778965200@bayofquinte.ca
SUMMARY:Frankford Riverfest
DESCRIPTION:Join the City of Quinte West on Victoria Day weekend for the Frankford Riverfest at the Frankford Tourist Park from 3-9 p.m. on Saturday\, May 16! \nThis popular community event offers free fun for the whole family including kids activities\, outdoor games\, live music\, food vendors and fireworks. \nEnjoy the fireworks show at sunset! (9 p.m. approximate start time)
URL:https://bayofquinte.ca/event/frankford-riverfest/
LOCATION:Frankford Tourist Park\, 1 Mill St.\, Frankford\, K0K 2C0
CATEGORIES:Quinte West Events
ATTACH;FMTTYPE=image/jpeg:https://bayofquinte.ca/wp-content/uploads/2026/04/Frankford-Riverfest-4.jpg
ORGANIZER;CN="City of Quinte West":MAILTO:info@quintewest.ca
GEO:44.2013187;-77.5958351
X-APPLE-STRUCTURED-LOCATION;VALUE=URI;X-ADDRESS=Frankford Tourist Park 1 Mill St. Frankford K0K 2C0;X-APPLE-RADIUS=500;X-TITLE=1 Mill St.:geo:-77.5958351,44.2013187
END:VEVENT
END:VCALENDAR