BEGIN:VCALENDAR
VERSION:2.0
PRODID:-//Bay of Quinte Region - ECPv6.15.20//NONSGML v1.0//EN
CALSCALE:GREGORIAN
METHOD:PUBLISH
X-WR-CALNAME:Bay of Quinte Region
X-ORIGINAL-URL:https://bayofquinte.ca
X-WR-CALDESC:Events for Bay of Quinte Region
REFRESH-INTERVAL;VALUE=DURATION:PT1H
X-Robots-Tag:noindex
X-PUBLISHED-TTL:PT1H
BEGIN:VTIMEZONE
TZID:America/Toronto
BEGIN:DAYLIGHT
TZOFFSETFROM:-0500
TZOFFSETTO:-0400
TZNAME:EDT
DTSTART:20250309T070000
END:DAYLIGHT
BEGIN:STANDARD
TZOFFSETFROM:-0400
TZOFFSETTO:-0500
TZNAME:EST
DTSTART:20251102T060000
END:STANDARD
BEGIN:DAYLIGHT
TZOFFSETFROM:-0500
TZOFFSETTO:-0400
TZNAME:EDT
DTSTART:20260308T070000
END:DAYLIGHT
BEGIN:STANDARD
TZOFFSETFROM:-0400
TZOFFSETTO:-0500
TZNAME:EST
DTSTART:20261101T060000
END:STANDARD
BEGIN:DAYLIGHT
TZOFFSETFROM:-0500
TZOFFSETTO:-0400
TZNAME:EDT
DTSTART:20270314T070000
END:DAYLIGHT
BEGIN:STANDARD
TZOFFSETFROM:-0400
TZOFFSETTO:-0500
TZNAME:EST
DTSTART:20271107T060000
END:STANDARD
END:VTIMEZONE
BEGIN:VEVENT
DTSTART;TZID=America/Toronto:20260207T100000
DTEND;TZID=America/Toronto:20260207T160000
DTSTAMP:20260419T225659
CREATED:20260105T202438Z
LAST-MODIFIED:20260105T202438Z
UID:10024088-1770458400-1770480000@bayofquinte.ca
SUMMARY:Biennial Indigenous Show at Gallery 121
DESCRIPTION:Biennial Indigenous Show at Gallery 121\nJanuary 13th\, 2026 – Feb.7\,2026\nReception: Saturday January 17th 2 – 4 p.m. \nGallery 121’s much-anticipated Biennial Indigenous Show is just around the corner. We are excited to present some wonderful and unique art pieces created by a medley of artists from Tyendinaga\, Deseronto\, and surrounding areas. We hope that you will be able to experience our opening reception that will include a smudging ceremony\, Indigenous foods and entertainment by David Maracle. The Gallery Members will also be showing works that they have created over the holidays. What a wonderful way to start 2026!
URL:https://bayofquinte.ca/event/biennial-indigenous-show-at-gallery-121/2026-02-07/
LOCATION:Gallery 121\, 48 Bridge St E\, ON\, Belleville\,\, K8N 1L6
CATEGORIES:Belleville Events,Community,Downtown Belleville Events
ATTACH;FMTTYPE=image/jpeg:https://bayofquinte.ca/wp-content/uploads/2026/01/G121-Indigenous-Show-2026-1.jpg
ORGANIZER;CN="Gallery 121":MAILTO:gallery121belleville@gmail.com
GEO:44.1640034;-77.3830269
X-APPLE-STRUCTURED-LOCATION;VALUE=URI;X-ADDRESS=Gallery 121 48 Bridge St E ON Belleville K8N 1L6;X-APPLE-RADIUS=500;X-TITLE=48 Bridge St E\, ON:geo:-77.3830269,44.1640034
END:VEVENT
END:VCALENDAR