BEGIN:VCALENDAR
VERSION:2.0
PRODID:-//Bay of Quinte Region - ECPv6.15.20//NONSGML v1.0//EN
CALSCALE:GREGORIAN
METHOD:PUBLISH
X-WR-CALNAME:Bay of Quinte Region
X-ORIGINAL-URL:https://bayofquinte.ca
X-WR-CALDESC:Events for Bay of Quinte Region
REFRESH-INTERVAL;VALUE=DURATION:PT1H
X-Robots-Tag:noindex
X-PUBLISHED-TTL:PT1H
BEGIN:VTIMEZONE
TZID:America/Toronto
BEGIN:DAYLIGHT
TZOFFSETFROM:-0500
TZOFFSETTO:-0400
TZNAME:EDT
DTSTART:20250309T070000
END:DAYLIGHT
BEGIN:STANDARD
TZOFFSETFROM:-0400
TZOFFSETTO:-0500
TZNAME:EST
DTSTART:20251102T060000
END:STANDARD
BEGIN:DAYLIGHT
TZOFFSETFROM:-0500
TZOFFSETTO:-0400
TZNAME:EDT
DTSTART:20260308T070000
END:DAYLIGHT
BEGIN:STANDARD
TZOFFSETFROM:-0400
TZOFFSETTO:-0500
TZNAME:EST
DTSTART:20261101T060000
END:STANDARD
BEGIN:DAYLIGHT
TZOFFSETFROM:-0500
TZOFFSETTO:-0400
TZNAME:EDT
DTSTART:20270314T070000
END:DAYLIGHT
BEGIN:STANDARD
TZOFFSETFROM:-0400
TZOFFSETTO:-0500
TZNAME:EST
DTSTART:20271107T060000
END:STANDARD
END:VTIMEZONE
BEGIN:VEVENT
DTSTART;TZID=America/Toronto:20260221T120000
DTEND;TZID=America/Toronto:20260221T160000
DTSTAMP:20260423T160723
CREATED:20251231T015736Z
LAST-MODIFIED:20251231T015736Z
UID:105860-1771675200-1771689600@bayofquinte.ca
SUMMARY:Beginner Macrame Workshop with Fibre Artist Chloe Roy
DESCRIPTION:Join us for an afternoon workshop with fibre artist Chloe Roy\, learning Macrame. Choose your colour & leave with a finished 25×17″ piece. \nBeginner Boho Macramé Workshop with Fibre Artist Chloe Roy\nSaturday\, February 21 • 12–4 pm \nJoin us for a relaxed and inspiring afternoon of knot-tying creativity with talented fibre artist Chloe Roy. In this beginner-friendly boho macramé workshop\, Chloe will guide attendees step-by-step through essential knots\, techniques\, and design elements as you create your own handcrafted wall hanging. \nAll materials are included\, and you’ll have your choice of beautiful cord colours—cream\, olive\, rust\, or yellow ochre—to personalize your piece. By the end of the session\, you’ll head home with a completed macramé artwork measuring 25 x 17 inches (chord area measurement)\, perfect for adding warmth and texture to your space or gifting to someone special. \nNo experience is needed—this workshop is welcoming and enjoyable for all skill levels. Come unwind\, get creative\, and learn the art of macramé in a supportive and inspiring environment. \nIF YOU WOULD LIKE TO AVOID THE EVENTBRITE FEES\, CALL OR TEXT 613-242-5165 TO BOOK.
URL:https://bayofquinte.ca/event/beginner-macrame-workshop-with-fibre-artist-chloe-roy/
LOCATION:these 4 walls gallery\, 22 Front St\, Trenton\, Ontario\, K8V 6C5\, Canada
CATEGORIES:Quinte West Events,Downtown Trenton
ATTACH;FMTTYPE=image/jpeg:https://bayofquinte.ca/wp-content/uploads/2025/12/Facebook-Event-Cover-13.jpg
ORGANIZER;CN="these 4 walls gallery":MAILTO:brandybrown@live.ca
GEO:44.1020447;-77.5758463
X-APPLE-STRUCTURED-LOCATION;VALUE=URI;X-ADDRESS=these 4 walls gallery 22 Front St Trenton Ontario K8V 6C5 Canada;X-APPLE-RADIUS=500;X-TITLE=22 Front St:geo:-77.5758463,44.1020447
END:VEVENT
END:VCALENDAR